Package: SPONGE Version: 1.32.0 Command: /home/biocbuild/bbs-3.22-bioc/R/bin/R CMD INSTALL SPONGE StartedAt: 2025-11-20 16:23:22 -0500 (Thu, 20 Nov 2025) EndedAt: 2025-11-20 16:24:37 -0500 (Thu, 20 Nov 2025) EllapsedTime: 75.2 seconds RetCode: 0 Status: OK