Package: SPLINTER Version: 1.35.1 Command: /home/biocbuild/bbs-3.22-bioc/R/bin/R CMD INSTALL SPLINTER StartedAt: 2025-10-24 16:01:35 -0400 (Fri, 24 Oct 2025) EndedAt: 2025-10-24 16:02:24 -0400 (Fri, 24 Oct 2025) EllapsedTime: 49.1 seconds RetCode: 0 Status: OK