Package: SPICEY Version: 1.0.0 Command: /home/biocbuild/bbs-3.22-bioc/R/bin/R CMD INSTALL SPICEY StartedAt: 2025-10-30 15:42:08 -0400 (Thu, 30 Oct 2025) EndedAt: 2025-10-30 15:42:19 -0400 (Thu, 30 Oct 2025) EllapsedTime: 11.4 seconds RetCode: 0 Status: OK