Package: SPICEY Version: 1.0.0 Command: /home/biocbuild/bbs-3.22-bioc/R/bin/R CMD build --keep-empty-dirs --no-resave-data --md5 SPICEY StartedAt: 2025-10-30 20:17:32 -0400 (Thu, 30 Oct 2025) EndedAt: 2025-10-30 20:18:16 -0400 (Thu, 30 Oct 2025) EllapsedTime: 44.0 seconds RetCode: 0 Status: OK PackageFile: SPICEY_1.0.0.tar.gz PackageFileSize: 1002 KiB