Package: SPIAT Version: 1.12.0 Command: /Library/Frameworks/R.framework/Resources/bin/R CMD build --keep-empty-dirs --no-resave-data SPIAT StartedAt: 2025-11-10 17:52:09 -0500 (Mon, 10 Nov 2025) EndedAt: 2025-11-10 17:53:12 -0500 (Mon, 10 Nov 2025) EllapsedTime: 62.7 seconds RetCode: 0 Status: OK PackageFile: SPIAT_1.12.0.tar.gz PackageFileSize: 7.205 MiB