Package: SPIAT Version: 1.12.0 Command: rm -rf SPIAT.buildbin-libdir && mkdir SPIAT.buildbin-libdir && /Users/biocbuild/BBS/utils/build-universal.sh SPIAT_1.12.0.tar.gz /Library/Frameworks/R.framework/Resources/bin/R SPIAT.buildbin-libdir StartedAt: 2025-11-10 23:38:08 -0500 (Mon, 10 Nov 2025) EndedAt: 2025-11-10 23:38:21 -0500 (Mon, 10 Nov 2025) EllapsedTime: 13.3 seconds RetCode: 0 Status: OK PackageFile: SPIAT_1.12.0.tgz PackageFileSize: 7.001 MiB