Package: SPIA Version: 2.62.0 Command: /home/biocbuild/bbs-3.22-bioc/R/bin/R CMD INSTALL SPIA StartedAt: 2025-11-17 17:17:28 -0500 (Mon, 17 Nov 2025) EndedAt: 2025-11-17 17:17:34 -0500 (Mon, 17 Nov 2025) EllapsedTime: 6.5 seconds RetCode: 0 Status: OK