Package: SPEM Version: 1.50.0 Command: /home/biocbuild/bbs-3.22-bioc/R/bin/R CMD build --keep-empty-dirs --no-resave-data --md5 SPEM StartedAt: 2025-11-06 20:16:14 -0500 (Thu, 06 Nov 2025) EndedAt: 2025-11-06 20:16:23 -0500 (Thu, 06 Nov 2025) EllapsedTime: 9.0 seconds RetCode: 0 Status: OK PackageFile: SPEM_1.50.0.tar.gz PackageFileSize: 601.9 KiB