Package: SOMNiBUS Version: 1.18.0 Command: /home/biocbuild/bbs-3.22-bioc/R/bin/R CMD INSTALL SOMNiBUS StartedAt: 2025-11-17 17:54:27 -0500 (Mon, 17 Nov 2025) EndedAt: 2025-11-17 17:55:18 -0500 (Mon, 17 Nov 2025) EllapsedTime: 50.7 seconds RetCode: 0 Status: OK