Package: SOMNiBUS Version: 1.18.0 Command: /home/biocbuild/bbs-3.22-bioc/R/bin/R CMD build --keep-empty-dirs --no-resave-data --md5 SOMNiBUS StartedAt: 2025-11-17 23:36:49 -0500 (Mon, 17 Nov 2025) EndedAt: 2025-11-17 23:41:15 -0500 (Mon, 17 Nov 2025) EllapsedTime: 266.2 seconds RetCode: 0 Status: OK PackageFile: SOMNiBUS_1.18.0.tar.gz PackageFileSize: 1.112 MiB