Package: SNPediaR Version: 1.36.0 Command: /home/biocbuild/bbs-3.22-bioc/R/bin/R CMD INSTALL SNPediaR StartedAt: 2025-11-16 15:03:22 -0500 (Sun, 16 Nov 2025) EndedAt: 2025-11-16 15:03:26 -0500 (Sun, 16 Nov 2025) EllapsedTime: 4.0 seconds RetCode: 0 Status: OK