Package: SLqPCR Version: 1.75.0 Command: /home/biocbuild/bbs-3.22-bioc/R/bin/R CMD INSTALL SLqPCR StartedAt: 2025-10-24 15:13:46 -0400 (Fri, 24 Oct 2025) EndedAt: 2025-10-24 15:13:58 -0400 (Fri, 24 Oct 2025) EllapsedTime: 11.9 seconds RetCode: 0 Status: OK