Package: SLqPCR Version: 1.76.0 Command: /Library/Frameworks/R.framework/Resources/bin/R CMD INSTALL SLqPCR StartedAt: 2025-11-10 15:01:56 -0500 (Mon, 10 Nov 2025) EndedAt: 2025-11-10 15:01:58 -0500 (Mon, 10 Nov 2025) EllapsedTime: 2.0 seconds RetCode: 0 Status: OK