Package: SLqPCR Version: 1.76.0 Command: /Library/Frameworks/R.framework/Resources/bin/R CMD build --keep-empty-dirs --no-resave-data SLqPCR StartedAt: 2025-11-10 17:47:53 -0500 (Mon, 10 Nov 2025) EndedAt: 2025-11-10 17:47:58 -0500 (Mon, 10 Nov 2025) EllapsedTime: 4.0 seconds RetCode: 0 Status: OK PackageFile: SLqPCR_1.76.0.tar.gz PackageFileSize: 220.7 KiB