Package: SIMLR Version: 1.35.1 Command: /home/biocbuild/bbs-3.22-bioc/R/bin/R CMD build --keep-empty-dirs --no-resave-data --md5 SIMLR StartedAt: 2025-10-24 20:14:35 -0400 (Fri, 24 Oct 2025) EndedAt: 2025-10-24 20:16:20 -0400 (Fri, 24 Oct 2025) EllapsedTime: 105.1 seconds RetCode: 0 Status: OK PackageFile: SIMLR_1.35.1.tar.gz PackageFileSize: 4.122 MiB