Package: SIMLR Version: 1.36.0 Command: /Library/Frameworks/R.framework/Resources/bin/R CMD INSTALL SIMLR StartedAt: 2025-11-10 15:02:57 -0500 (Mon, 10 Nov 2025) EndedAt: 2025-11-10 15:03:04 -0500 (Mon, 10 Nov 2025) EllapsedTime: 7.2 seconds RetCode: 0 Status: OK