Package: SIMLR Version: 1.36.0 Command: /Library/Frameworks/R.framework/Resources/bin/R CMD build --keep-empty-dirs --no-resave-data SIMLR StartedAt: 2025-11-10 17:46:29 -0500 (Mon, 10 Nov 2025) EndedAt: 2025-11-10 17:47:20 -0500 (Mon, 10 Nov 2025) EllapsedTime: 51.6 seconds RetCode: 0 Status: OK PackageFile: SIMLR_1.36.0.tar.gz PackageFileSize: 4.096 MiB