Package: SIMLR Version: 1.36.0 Command: rm -rf SIMLR.buildbin-libdir && mkdir SIMLR.buildbin-libdir && /Users/biocbuild/BBS/utils/build-universal.sh SIMLR_1.36.0.tar.gz /Library/Frameworks/R.framework/Resources/bin/R SIMLR.buildbin-libdir StartedAt: 2025-11-10 23:37:07 -0500 (Mon, 10 Nov 2025) EndedAt: 2025-11-10 23:37:15 -0500 (Mon, 10 Nov 2025) EllapsedTime: 8.2 seconds RetCode: 0 Status: OK PackageFile: SIMLR_1.36.0.tgz PackageFileSize: 4.222 MiB