Package: SIMAT Version: 1.42.0 Command: /Library/Frameworks/R.framework/Resources/bin/R CMD INSTALL SIMAT StartedAt: 2025-11-10 15:10:14 -0500 (Mon, 10 Nov 2025) EndedAt: 2025-11-10 15:10:17 -0500 (Mon, 10 Nov 2025) EllapsedTime: 3.2 seconds RetCode: 0 Status: OK