Package: SIMAT Version: 1.42.0 Command: /Library/Frameworks/R.framework/Resources/bin/R CMD build --keep-empty-dirs --no-resave-data SIMAT StartedAt: 2025-11-10 17:46:16 -0500 (Mon, 10 Nov 2025) EndedAt: 2025-11-10 17:46:26 -0500 (Mon, 10 Nov 2025) EllapsedTime: 10.1 seconds RetCode: 0 Status: OK PackageFile: SIMAT_1.42.0.tar.gz PackageFileSize: 1.037 MiB