Package: SIM Version: 1.79.0 Command: /home/biocbuild/bbs-3.22-bioc/R/bin/R CMD INSTALL SIM StartedAt: 2025-10-24 15:40:08 -0400 (Fri, 24 Oct 2025) EndedAt: 2025-10-24 15:40:26 -0400 (Fri, 24 Oct 2025) EllapsedTime: 17.8 seconds RetCode: 0 Status: OK