Package: SIM Version: 1.79.0 Command: /home/biocbuild/bbs-3.22-bioc/R/bin/R CMD build --keep-empty-dirs --no-resave-data --md5 SIM StartedAt: 2025-10-24 20:14:02 -0400 (Fri, 24 Oct 2025) EndedAt: 2025-10-24 20:14:35 -0400 (Fri, 24 Oct 2025) EllapsedTime: 33.0 seconds RetCode: 0 Status: OK PackageFile: SIM_1.79.0.tar.gz PackageFileSize: 462.8 KiB