Package: SGSeq Version: 1.43.1 Command: /home/biocbuild/bbs-3.22-bioc/R/bin/R CMD INSTALL SGSeq StartedAt: 2025-10-28 15:43:27 -0400 (Tue, 28 Oct 2025) EndedAt: 2025-10-28 15:44:06 -0400 (Tue, 28 Oct 2025) EllapsedTime: 39.0 seconds RetCode: 0 Status: OK