Package: SETA Version: 1.0.0 Command: /home/biocbuild/bbs-3.22-bioc/R/bin/R CMD INSTALL SETA StartedAt: 2025-11-06 15:19:33 -0500 (Thu, 06 Nov 2025) EndedAt: 2025-11-06 15:19:56 -0500 (Thu, 06 Nov 2025) EllapsedTime: 22.7 seconds RetCode: 0 Status: OK