Package: SELEX Version: 1.42.0 Command: /home/biocbuild/bbs-3.22-bioc/R/bin/R CMD INSTALL SELEX StartedAt: 2025-11-03 15:16:08 -0500 (Mon, 03 Nov 2025) EndedAt: 2025-11-03 15:16:21 -0500 (Mon, 03 Nov 2025) EllapsedTime: 12.6 seconds RetCode: 0 Status: OK