Package: SCFA Version: 1.20.0 Command: /home/biocbuild/bbs-3.22-bioc/R/bin/R CMD INSTALL SCFA StartedAt: 2025-11-06 15:06:58 -0500 (Thu, 06 Nov 2025) EndedAt: 2025-11-06 15:07:14 -0500 (Thu, 06 Nov 2025) EllapsedTime: 16.5 seconds RetCode: 0 Status: OK