Package: SCBN Version: 1.28.0 Command: /home/biocbuild/bbs-3.22-bioc/R/bin/R CMD INSTALL SCBN StartedAt: 2025-11-13 15:02:31 -0500 (Thu, 13 Nov 2025) EndedAt: 2025-11-13 15:02:39 -0500 (Thu, 13 Nov 2025) EllapsedTime: 7.8 seconds RetCode: 0 Status: OK