Package: SCArray Version: 1.18.0 Command: /home/biocbuild/R/R/bin/R CMD INSTALL SCArray StartedAt: 2025-11-13 22:05:02 -0000 (Thu, 13 Nov 2025) EndedAt: 2025-11-13 22:05:56 -0000 (Thu, 13 Nov 2025) EllapsedTime: 54.4 seconds RetCode: 0 Status: OK