Package: SCArray Version: 1.18.0 Command: /home/biocbuild/R/R/bin/R CMD build --keep-empty-dirs --no-resave-data SCArray StartedAt: 2025-11-14 05:00:56 -0000 (Fri, 14 Nov 2025) EndedAt: 2025-11-14 05:02:20 -0000 (Fri, 14 Nov 2025) EllapsedTime: 84.0 seconds RetCode: 0 Status: OK PackageFile: SCArray_1.18.0.tar.gz PackageFileSize: 1.28 MiB