Package: SCArray Version: 1.17.0 Command: /home/biocbuild/bbs-3.22-bioc/R/bin/R CMD INSTALL SCArray StartedAt: 2025-10-24 16:03:27 -0400 (Fri, 24 Oct 2025) EndedAt: 2025-10-24 16:04:05 -0400 (Fri, 24 Oct 2025) EllapsedTime: 38.8 seconds RetCode: 0 Status: OK