Package: SCArray Version: 1.18.0 Command: /Library/Frameworks/R.framework/Resources/bin/R CMD INSTALL SCArray StartedAt: 2025-11-17 18:44:38 -0500 (Mon, 17 Nov 2025) EndedAt: 2025-11-17 18:46:12 -0500 (Mon, 17 Nov 2025) EllapsedTime: 93.5 seconds RetCode: 0 Status: OK