Package: SCArray Version: 1.18.0 Command: /Library/Frameworks/R.framework/Resources/bin/R CMD build --keep-empty-dirs --no-resave-data SCArray StartedAt: 2025-11-18 01:52:32 -0500 (Tue, 18 Nov 2025) EndedAt: 2025-11-18 01:55:27 -0500 (Tue, 18 Nov 2025) EllapsedTime: 174.7 seconds RetCode: 0 Status: OK PackageFile: SCArray_1.18.0.tar.gz PackageFileSize: 1.359 MiB