Package: SCArray Version: 1.18.0 Command: rm -rf SCArray.buildbin-libdir && mkdir SCArray.buildbin-libdir && /Users/biocbuild/BBS/utils/build-universal.sh SCArray_1.18.0.tar.gz /Library/Frameworks/R.framework/Resources/bin/R SCArray.buildbin-libdir StartedAt: 2025-11-18 18:30:15 -0500 (Tue, 18 Nov 2025) EndedAt: 2025-11-18 18:31:48 -0500 (Tue, 18 Nov 2025) EllapsedTime: 92.8 seconds RetCode: 0 Status: OK PackageFile: SCArray_1.18.0.tgz PackageFileSize: 2.405 MiB