Package: SCArray Version: 1.17.0 Command: /Library/Frameworks/R.framework/Resources/bin/R CMD INSTALL SCArray StartedAt: 2025-10-24 15:50:07 -0400 (Fri, 24 Oct 2025) EndedAt: 2025-10-24 15:51:02 -0400 (Fri, 24 Oct 2025) EllapsedTime: 55.3 seconds RetCode: 0 Status: OK