Package: SCArray Version: 1.17.0 Command: rm -rf SCArray.buildbin-libdir && mkdir SCArray.buildbin-libdir && /Users/biocbuild/BBS/utils/build-universal.sh SCArray_1.17.0.tar.gz /Library/Frameworks/R.framework/Resources/bin/R SCArray.buildbin-libdir StartedAt: 2025-10-25 02:01:52 -0400 (Sat, 25 Oct 2025) EndedAt: 2025-10-25 02:02:54 -0400 (Sat, 25 Oct 2025) EllapsedTime: 62.3 seconds RetCode: 0 Status: OK PackageFile: SCArray_1.17.0.tgz PackageFileSize: 2.405 MiB