Package: SCArray Version: 1.17.0 Command: /Library/Frameworks/R.framework/Resources/bin/R CMD INSTALL SCArray StartedAt: 2025-10-24 15:31:32 -0400 (Fri, 24 Oct 2025) EndedAt: 2025-10-24 15:31:48 -0400 (Fri, 24 Oct 2025) EllapsedTime: 15.5 seconds RetCode: 0 Status: OK