Package: SCArray Version: 1.17.0 Command: /Library/Frameworks/R.framework/Resources/bin/R CMD build --keep-empty-dirs --no-resave-data SCArray StartedAt: 2025-10-24 17:37:03 -0400 (Fri, 24 Oct 2025) EndedAt: 2025-10-24 17:37:37 -0400 (Fri, 24 Oct 2025) EllapsedTime: 33.4 seconds RetCode: 0 Status: OK PackageFile: SCArray_1.17.0.tar.gz PackageFileSize: 1.309 MiB