Package: SCArray.sat Version: 1.9.0 Command: /home/biocbuild/R/R/bin/R CMD INSTALL SCArray.sat StartedAt: 2025-10-23 21:20:57 -0000 (Thu, 23 Oct 2025) EndedAt: 2025-10-23 21:21:52 -0000 (Thu, 23 Oct 2025) EllapsedTime: 54.9 seconds RetCode: 0 Status: OK