Package: SCArray.sat Version: 1.9.0 Command: /home/biocbuild/bbs-3.22-bioc/R/bin/R CMD INSTALL SCArray.sat StartedAt: 2025-10-24 16:06:26 -0400 (Fri, 24 Oct 2025) EndedAt: 2025-10-24 16:07:06 -0400 (Fri, 24 Oct 2025) EllapsedTime: 40.3 seconds RetCode: 0 Status: OK