Package: SCArray.sat Version: 1.9.0 Command: /home/biocbuild/bbs-3.22-bioc/R/bin/R CMD build --keep-empty-dirs --no-resave-data --md5 SCArray.sat StartedAt: 2025-10-24 19:57:42 -0400 (Fri, 24 Oct 2025) EndedAt: 2025-10-24 19:59:10 -0400 (Fri, 24 Oct 2025) EllapsedTime: 88.1 seconds RetCode: 0 Status: OK PackageFile: SCArray.sat_1.9.0.tar.gz PackageFileSize: 665.9 KiB