Package: SCANVIS Version: 1.24.0 Command: /home/biocbuild/bbs-3.22-bioc/R/bin/R CMD INSTALL SCANVIS StartedAt: 2025-11-06 15:27:57 -0500 (Thu, 06 Nov 2025) EndedAt: 2025-11-06 15:28:28 -0500 (Thu, 06 Nov 2025) EllapsedTime: 30.9 seconds RetCode: 0 Status: OK