Package: SCAN.UPC Version: 2.51.0 Command: /home/biocbuild/bbs-3.22-bioc/R/bin/R CMD INSTALL SCAN.UPC StartedAt: 2025-10-24 15:44:20 -0400 (Fri, 24 Oct 2025) EndedAt: 2025-10-24 15:44:52 -0400 (Fri, 24 Oct 2025) EllapsedTime: 32.1 seconds RetCode: 0 Status: OK