Package: SC3 Version: 1.38.0 Command: /Library/Frameworks/R.framework/Resources/bin/R CMD build --keep-empty-dirs --no-resave-data SC3 StartedAt: 2025-11-03 18:35:43 -0500 (Mon, 03 Nov 2025) EndedAt: 2025-11-03 18:44:16 -0500 (Mon, 03 Nov 2025) EllapsedTime: 513.1 seconds RetCode: 0 Status: OK PackageFile: SC3_1.38.0.tar.gz PackageFileSize: 3.368 MiB