Package: SC3 Version: 1.38.0 Command: rm -rf SC3.buildbin-libdir && mkdir SC3.buildbin-libdir && /Users/biocbuild/BBS/utils/build-universal.sh SC3_1.38.0.tar.gz /Library/Frameworks/R.framework/Resources/bin/R SC3.buildbin-libdir StartedAt: 2025-11-04 02:01:41 -0500 (Tue, 04 Nov 2025) EndedAt: 2025-11-04 02:02:45 -0500 (Tue, 04 Nov 2025) EllapsedTime: 63.4 seconds RetCode: 0 Status: OK PackageFile: SC3_1.38.0.tgz PackageFileSize: 4.608 MiB