Package: SC3 Version: 1.37.0 Command: /Library/Frameworks/R.framework/Resources/bin/R CMD INSTALL SC3 StartedAt: 2025-10-26 15:10:16 -0400 (Sun, 26 Oct 2025) EndedAt: 2025-10-26 15:10:31 -0400 (Sun, 26 Oct 2025) EllapsedTime: 15.2 seconds RetCode: 0 Status: OK