Package: SC3 Version: 1.37.0 Command: rm -rf SC3.buildbin-libdir && mkdir SC3.buildbin-libdir && /Users/biocbuild/BBS/utils/build-universal.sh SC3_1.37.0.tar.gz /Library/Frameworks/R.framework/Resources/bin/R SC3.buildbin-libdir StartedAt: 2025-10-26 22:47:12 -0400 (Sun, 26 Oct 2025) EndedAt: 2025-10-26 22:47:28 -0400 (Sun, 26 Oct 2025) EllapsedTime: 16.3 seconds RetCode: 0 Status: OK PackageFile: SC3_1.37.0.tgz PackageFileSize: 4.61 MiB