Package: SBMLR Version: 2.6.0 Command: /home/biocbuild/bbs-3.22-bioc/R/bin/R CMD INSTALL SBMLR StartedAt: 2025-11-03 15:02:29 -0500 (Mon, 03 Nov 2025) EndedAt: 2025-11-03 15:02:42 -0500 (Mon, 03 Nov 2025) EllapsedTime: 13.4 seconds RetCode: 0 Status: OK