Package: SARC Version: 1.8.0 Command: /home/biocbuild/bbs-3.22-bioc/R/bin/R CMD build --keep-empty-dirs --no-resave-data --md5 SARC StartedAt: 2025-11-06 19:47:17 -0500 (Thu, 06 Nov 2025) EndedAt: 2025-11-06 19:49:41 -0500 (Thu, 06 Nov 2025) EllapsedTime: 144.2 seconds RetCode: 0 Status: OK PackageFile: SARC_1.8.0.tar.gz PackageFileSize: 3.508 MiB