Package: Rvisdiff Version: 1.7.1 Command: /home/biocbuild/R/R/bin/R CMD INSTALL Rvisdiff StartedAt: 2025-10-23 20:18:29 -0000 (Thu, 23 Oct 2025) EndedAt: 2025-10-23 20:19:09 -0000 (Thu, 23 Oct 2025) EllapsedTime: 40.2 seconds RetCode: 0 Status: OK