Package: Rvisdiff Version: 1.7.1 Command: /home/biocbuild/R/R/bin/R CMD build --keep-empty-dirs --no-resave-data Rvisdiff StartedAt: 2025-10-21 02:43:53 -0000 (Tue, 21 Oct 2025) EndedAt: 2025-10-21 02:45:13 -0000 (Tue, 21 Oct 2025) EllapsedTime: 80.1 seconds RetCode: 0 Status: OK PackageFile: Rvisdiff_1.7.1.tar.gz PackageFileSize: 1.379 MiB